BEGIN:VCALENDAR
VERSION:2.0
PRODID:-//Operation First Response - ECPv4.6.25//NONSGML v1.0//EN
CALSCALE:GREGORIAN
METHOD:PUBLISH
X-WR-CALNAME:Operation First Response
X-ORIGINAL-URL:https://www.operationfirstresponse.org
X-WR-CALDESC:Events for Operation First Response
BEGIN:VEVENT
DTSTART;VALUE=DATE:20170520
DTEND;VALUE=DATE:20170521
DTSTAMP:20260423T224717
CREATED:20170309T024854Z
LAST-MODIFIED:20170309T031322Z
UID:12984-1495238400-1495324799@www.operationfirstresponse.org
SUMMARY:2017 Walk for the Wounded & Warriors 5K Run
DESCRIPTION:Walk for the Wounded Media\, PA\n\nSaturday\, May 20th 2017\nRegistration 8:30am | Run 10:00am | Ceremony 11:00am\nWalk Immediately Following Ceremony\nSaturday\, May 20th 2017\nRose Tree Park | Media\, PA\n  \nABOUT THE WALK\nOn Saturday\, May 20th\, Operation First Response presents the 10th Annual Walk for the Wounded at Rose Tree Park in Media\, PA.  Registration for the Walk & Warriors 5k Run takes place at Rose Tree Park at 8:30 a.m.\, and the three-mile Walk begins immediately after the ceremony. \nThe goal of the day is two-fold: \n1. To draw attention to the plight of tens of thousands of returning soldiers who are wounded\, and whose families are facing significant financial and emotional challenges as their loved one recovers.\n2. To raise funds to help meet the critical needs of these families\, many of whom are crisis right now – today\, in hometowns all across the country. \nRead More & Register\n
URL:https://www.operationfirstresponse.org/event/2017-walk-for-the-wounded-warriors-5k-run/
LOCATION:Rose Tree Park\, 1671 N Providence Rd\, Media\, PA\, 19063\, United States
ATTACH;FMTTYPE=image/jpeg:https://www.operationfirstresponse.org/wp-content/uploads/2016/03/ofr-2011-media10.jpg
END:VEVENT
END:VCALENDAR